BEGIN:VCALENDAR
VERSION:2.0
PRODID:-//Trickster&#039;s Hideout | Squamish BC - ECPv6.15.20//NONSGML v1.0//EN
CALSCALE:GREGORIAN
METHOD:PUBLISH
X-WR-CALNAME:Trickster&#039;s Hideout | Squamish BC
X-ORIGINAL-URL:https://trickstershideout.ca
X-WR-CALDESC:Events for Trickster&#039;s Hideout | Squamish BC
REFRESH-INTERVAL;VALUE=DURATION:PT1H
X-Robots-Tag:noindex
X-PUBLISHED-TTL:PT1H
BEGIN:VTIMEZONE
TZID:America/Vancouver
BEGIN:DAYLIGHT
TZOFFSETFROM:-0800
TZOFFSETTO:-0700
TZNAME:PDT
DTSTART:20250309T100000
END:DAYLIGHT
BEGIN:STANDARD
TZOFFSETFROM:-0700
TZOFFSETTO:-0800
TZNAME:PST
DTSTART:20251102T090000
END:STANDARD
BEGIN:DAYLIGHT
TZOFFSETFROM:-0800
TZOFFSETTO:-0700
TZNAME:PDT
DTSTART:20260308T100000
END:DAYLIGHT
BEGIN:STANDARD
TZOFFSETFROM:-0700
TZOFFSETTO:-0800
TZNAME:PST
DTSTART:20261101T090000
END:STANDARD
BEGIN:DAYLIGHT
TZOFFSETFROM:-0800
TZOFFSETTO:-0700
TZNAME:PDT
DTSTART:20270314T100000
END:DAYLIGHT
BEGIN:STANDARD
TZOFFSETFROM:-0700
TZOFFSETTO:-0800
TZNAME:PST
DTSTART:20271107T090000
END:STANDARD
END:VTIMEZONE
BEGIN:VEVENT
DTSTART;TZID=America/Vancouver:20260418T200000
DTEND;TZID=America/Vancouver:20260418T200000
DTSTAMP:20260420T015543
CREATED:20260216T194551Z
LAST-MODIFIED:20260216T194605Z
UID:10016404-1776542400-1776542400@trickstershideout.ca
SUMMARY:Fresh Cut Grass
DESCRIPTION:Come party with Fresh Cut Grass\, your favorite party-starters bringing the ultimate nostalgia-fueled throwdown! This high-energy band delivers iconic alternative and emo hits from the late ’90s and early 2000s with a fresh twist and full-hearted flair. \nKnown for their explosive stage presence and genre-hopping antics\, Fresh Cut Grass will have you screaming along to your angsty anthems one minute and dancing your face off the next. Whether you’re reliving your glory days or just discovering the magic of mall punk and indie bangers\, this is the show you didn’t know you needed. \n💥 Dust off your studded belts\, skinny jeans\, and eyeliner—this is gonna be one for the books. 💥
URL:https://trickstershideout.ca/event/fresh-cut-grass-5/
LOCATION:Trickster’s Hideout\, 38005 Cleveland Ave\, Squamish\, BC\, V8B 0C3\, Canada
CATEGORIES:live band,Live Music
ATTACH;FMTTYPE=image/jpeg:https://trickstershideout.ca/wp-content/uploads/2026/02/Fcg-banner-Facebook-banner.jpg
END:VEVENT
END:VCALENDAR