BEGIN:VCALENDAR
VERSION:2.0
PRODID:-//Trickster&#039;s Hideout | Squamish BC - ECPv6.15.20//NONSGML v1.0//EN
CALSCALE:GREGORIAN
METHOD:PUBLISH
X-WR-CALNAME:Trickster&#039;s Hideout | Squamish BC
X-ORIGINAL-URL:https://trickstershideout.ca
X-WR-CALDESC:Events for Trickster&#039;s Hideout | Squamish BC
REFRESH-INTERVAL;VALUE=DURATION:PT1H
X-Robots-Tag:noindex
X-PUBLISHED-TTL:PT1H
BEGIN:VTIMEZONE
TZID:America/Vancouver
BEGIN:DAYLIGHT
TZOFFSETFROM:-0800
TZOFFSETTO:-0700
TZNAME:PDT
DTSTART:20250309T100000
END:DAYLIGHT
BEGIN:STANDARD
TZOFFSETFROM:-0700
TZOFFSETTO:-0800
TZNAME:PST
DTSTART:20251102T090000
END:STANDARD
BEGIN:DAYLIGHT
TZOFFSETFROM:-0800
TZOFFSETTO:-0700
TZNAME:PDT
DTSTART:20260308T100000
END:DAYLIGHT
BEGIN:STANDARD
TZOFFSETFROM:-0700
TZOFFSETTO:-0800
TZNAME:PST
DTSTART:20261101T090000
END:STANDARD
BEGIN:DAYLIGHT
TZOFFSETFROM:-0800
TZOFFSETTO:-0700
TZNAME:PDT
DTSTART:20270314T100000
END:DAYLIGHT
BEGIN:STANDARD
TZOFFSETFROM:-0700
TZOFFSETTO:-0800
TZNAME:PST
DTSTART:20271107T090000
END:STANDARD
END:VTIMEZONE
BEGIN:VEVENT
DTSTART;TZID=America/Vancouver:20260421T190000
DTEND;TZID=America/Vancouver:20260421T210000
DTSTAMP:20260421T014506
CREATED:20260329T022708Z
LAST-MODIFIED:20260329T022713Z
UID:10016708-1776798000-1776805200@trickstershideout.ca
SUMMARY:Drag Bingo
DESCRIPTION:THE one and only Amy Grindhouse is gracing the stage for DRAG BINGO at Trickster’s Hideout on Tuesday\, April 21 at 7:00pm!!!! \nSeriously… name a better way to spend your Tuesday: \n• Bingo \n• Amy Grindhouse \n• $1 PIZZA slices \nWe’ll wait. \nFree entry. Bingo cards available for purchase at the bar. Prizes up for grabs. \nBring your friends\, grab a slice\, and get ready to yell BINGO! Doors open at 6:00pm\, come snag a seat and settle in for the show. \nFree entry & pay to play: \n• 1 card for $15 \n• 2 cards for $20 \n• 3 cards for $25 \nBingo + drag + cheap pizza = elite Tuesday \nThe holy trinity: drag\, bingo\, $1 pizza slices \nRSVP now!
URL:https://trickstershideout.ca/event/drag-bingo-2/
LOCATION:Trickster’s Hideout\, 38005 Cleveland Ave\, Squamish\, BC\, V8B 0C3\, Canada
CATEGORIES:Bingo,Comedy
ATTACH;FMTTYPE=image/jpeg:https://trickstershideout.ca/wp-content/uploads/2026/03/IMG_1049.jpeg
END:VEVENT
END:VCALENDAR