BEGIN:VCALENDAR
VERSION:2.0
PRODID:-//Trickster&#039;s Hideout | Squamish BC - ECPv6.15.20//NONSGML v1.0//EN
CALSCALE:GREGORIAN
METHOD:PUBLISH
X-WR-CALNAME:Trickster&#039;s Hideout | Squamish BC
X-ORIGINAL-URL:https://trickstershideout.ca
X-WR-CALDESC:Events for Trickster&#039;s Hideout | Squamish BC
REFRESH-INTERVAL;VALUE=DURATION:PT1H
X-Robots-Tag:noindex
X-PUBLISHED-TTL:PT1H
BEGIN:VTIMEZONE
TZID:America/Vancouver
BEGIN:DAYLIGHT
TZOFFSETFROM:-0800
TZOFFSETTO:-0700
TZNAME:PDT
DTSTART:20250309T100000
END:DAYLIGHT
BEGIN:STANDARD
TZOFFSETFROM:-0700
TZOFFSETTO:-0800
TZNAME:PST
DTSTART:20251102T090000
END:STANDARD
BEGIN:DAYLIGHT
TZOFFSETFROM:-0800
TZOFFSETTO:-0700
TZNAME:PDT
DTSTART:20260308T100000
END:DAYLIGHT
BEGIN:STANDARD
TZOFFSETFROM:-0700
TZOFFSETTO:-0800
TZNAME:PST
DTSTART:20261101T090000
END:STANDARD
BEGIN:DAYLIGHT
TZOFFSETFROM:-0800
TZOFFSETTO:-0700
TZNAME:PDT
DTSTART:20270314T100000
END:DAYLIGHT
BEGIN:STANDARD
TZOFFSETFROM:-0700
TZOFFSETTO:-0800
TZNAME:PST
DTSTART:20271107T090000
END:STANDARD
END:VTIMEZONE
BEGIN:VEVENT
DTSTART;TZID=America/Vancouver:20260423T193000
DTEND;TZID=America/Vancouver:20260423T220000
DTSTAMP:20260423T021204
CREATED:20260315T173823Z
LAST-MODIFIED:20260315T173841Z
UID:10016705-1776972600-1776981600@trickstershideout.ca
SUMMARY:The Deadbeat Dads Comedy Tour - Squamish
DESCRIPTION:The Deadbeat Dads Tour is coming to Squamish at Trickster’s Hideout on Thursday April 23rd \n\n\n\nDoors at 7:00pm and show at 7:30pm. \nForget the same old night out — Deadbeat Dads is a comedy show that hits hard and doesn’t let up. Peter comes in swinging with raw energy\, Elyott slices through with sharp\, precise jokes\, and together they keep the laughs relentless. \nPeter Hudson is a mainstay of the Vancouver Island comedy scene who has entertained audiences throughout Canada. Known to comedians across the country as the mayor of Nanaimo. Peter taps into daily life to bring you hilarious takes on work\, family\, and his own misadventures. His comedy is raw and colourful\, whether he’s describing growing up as a redhead\, working blue collar jobs\, or “living green” on the west coast. Known for his ability to rev up a crowd with his high energy\, exuberant\, and always entertaining comedy\, Peter will get you laughing and won’t let you stop until you’ve had enough. Peter has headlined Yuk Yuks as well as performed on Just For Laughs Vancouver and Funnyfest Calgary. He has toured with everyone from Jon Lovitz\, Tom Green\, Kenny Vs Spenny\, and musical acts from Nelly to Trooper. \nElyott Ryan has headlined from coast to coast across Canada bringing his sharp jokes and confessional brand of comedy to every corner of this country. He has been featured on South Rock Comedy Festival\, Rifflandia\, Funnyfest and Edmonton Fringe Festival. He has opened for Ivan Decker\, Kenny vs. Spenny at the McPherson Playhouse in Victoria. \nGet Tix here: \nhttps://www.jumpcomedy.com/e/the-deadbeat-dads-comedy-tour-squamish/
URL:https://trickstershideout.ca/event/the-deadbeat-dads-comedy-tour-squamish/
LOCATION:Trickster’s Hideout\, 38005 Cleveland Ave\, Squamish\, BC\, V8B 0C3\, Canada
CATEGORIES:Comedy
ATTACH;FMTTYPE=image/png:https://trickstershideout.ca/wp-content/uploads/2026/03/Deadbeat-Dads-Squamish.png
END:VEVENT
BEGIN:VEVENT
DTSTART;TZID=America/Vancouver:20260423T210000
DTEND;TZID=America/Vancouver:20260424T010000
DTSTAMP:20260423T021204
CREATED:20260109T225510Z
LAST-MODIFIED:20260109T230721Z
UID:10015930-1776978000-1776992400@trickstershideout.ca
SUMMARY:DJ'S EVERY THURSDAY!
DESCRIPTION:Thursday Night DJs at Trickster’s Hideout\nFree Entry · Happy Hour · Midweek Dance Floor Vibes\nEvery Thursday night\, Trickster’s Hideout becomes Squamish’s go-to midweek dance floor. We bring in a rotating lineup of Sea-to-Sky DJs spinning everything from funky house and soulful grooves to bass-forward\, late-night beats — perfect for easing into the weekend early. \nThis isn’t a full-tilt rave and it’s not background music either. It’s good drinks\, good sound\, and a room that moves. \nWeekly DJ Lineup (Rotating)\nOur Thursday nights feature a curated mix of local talent\, including: \n\nDJ Frankie V — reloaded classics & groovy house\nDJ Byron James (Vibe Radio) — smooth vibes & eclectic mixes\nCrippledwheel Pete — high-energy\, dance-driven beats\nAndrewoods — funky\, soulful selections\nPolyte — deep\, driving rhythms\n\nPlus guest DJs and surprise sets throughout the month. \nEvent Details\n\nWhere: Trickster’s Hideout — 38005 Cleveland Ave (in the alley)\, Squamish\nWhen: Every Thursday night · 9PM–Late\nHappy Hour: Until 10PM\nCover: Free entry all night\n\nWhy Thursdays at Trickster’s?\nWhether you’re stopping in for a few drinks\, warming up before the weekend\, or staying late on the dance floor\, Thursday nights are about low pressure\, high quality — great DJs\, friendly faces\, and a room that feels alive. \nNo tickets. No cover. Just show up. \nMake Thursdays your night. New DJs\, familiar faces\, every week.
URL:https://trickstershideout.ca/event/djs-every-thursday-2-2/2026-04-23/
LOCATION:Trickster’s Hideout\, 38005 Cleveland Ave\, Squamish\, BC\, V8B 0C3\, Canada
CATEGORIES:Dance,DJ,Free Event,Live Music,locals specials
ATTACH;FMTTYPE=image/jpeg:https://trickstershideout.ca/wp-content/uploads/2026/01/DJs-Every-Thursday-1.jpg
END:VEVENT
END:VCALENDAR