BEGIN:VCALENDAR
VERSION:2.0
PRODID:-//Trickster&#039;s Hideout | Squamish BC - ECPv6.15.20//NONSGML v1.0//EN
CALSCALE:GREGORIAN
METHOD:PUBLISH
X-WR-CALNAME:Trickster&#039;s Hideout | Squamish BC
X-ORIGINAL-URL:https://trickstershideout.ca
X-WR-CALDESC:Events for Trickster&#039;s Hideout | Squamish BC
REFRESH-INTERVAL;VALUE=DURATION:PT1H
X-Robots-Tag:noindex
X-PUBLISHED-TTL:PT1H
BEGIN:VTIMEZONE
TZID:America/Vancouver
BEGIN:DAYLIGHT
TZOFFSETFROM:-0800
TZOFFSETTO:-0700
TZNAME:PDT
DTSTART:20240310T100000
END:DAYLIGHT
BEGIN:STANDARD
TZOFFSETFROM:-0700
TZOFFSETTO:-0800
TZNAME:PST
DTSTART:20241103T090000
END:STANDARD
BEGIN:DAYLIGHT
TZOFFSETFROM:-0800
TZOFFSETTO:-0700
TZNAME:PDT
DTSTART:20250309T100000
END:DAYLIGHT
BEGIN:STANDARD
TZOFFSETFROM:-0700
TZOFFSETTO:-0800
TZNAME:PST
DTSTART:20251102T090000
END:STANDARD
BEGIN:DAYLIGHT
TZOFFSETFROM:-0800
TZOFFSETTO:-0700
TZNAME:PDT
DTSTART:20260308T100000
END:DAYLIGHT
BEGIN:STANDARD
TZOFFSETFROM:-0700
TZOFFSETTO:-0800
TZNAME:PST
DTSTART:20261101T090000
END:STANDARD
END:VTIMEZONE
BEGIN:VEVENT
DTSTART;TZID=America/Vancouver:20250615T170000
DTEND;TZID=America/Vancouver:20250615T183000
DTSTAMP:20260421T015449
CREATED:20250403T220909Z
LAST-MODIFIED:20250423T014445Z
UID:10013998-1750006800-1750012200@trickstershideout.ca
SUMMARY:JDPlays: Hideout Sessions with Cowgirl Lovebrand
DESCRIPTION:🎶 Hideout Sessions: Live Music Spotlight – April 27th 🎶\nJoin us for an unforgettable evening of music and conversation as we showcase an incredible artist live on April 27th! \nCheck out Cowgirl Lovebrand \nCheck out your host\, Jeremy. \n📅 Event Schedule:🕔 5:00 PM – 5:30 PM | Meet & Greet – Connect with the artist before the show.🎤 5:30 PM – 5:45 PM | Artist Interview – Get to know their story\, influences\, and creative process.🎶 5:45 PM – 6:00 PM | Live Performance – A special set featuring original music.🎬 6 PM | Wrap-Up – Socials\, shoutouts\, and a sneak peek at next month’s artist. \n📹 Please note: This event will be live-streamed. By attending\, you consent to the possibility of appearing in the broadcast. \nCan’t attend but would like to watch from home? Tune into our Youtube channel here\, click subscribe and hit the bell icon to be notified when we go live! \nEnjoy an intimate and engaging evening filled with great music and behind-the-scenes insights. See you there!
URL:https://trickstershideout.ca/event/djplays-hideout-sessions-with-cowgirl-lovebrand/
LOCATION:Trickster’s Hideout\, 38005 Cleveland Ave\, Squamish\, BC\, V8B 0C3\, Canada
CATEGORIES:community support,folk music,live band,Live Music,Special Event
ATTACH;FMTTYPE=image/png:https://trickstershideout.ca/wp-content/uploads/2025/04/TH-Event-Covers.cowgirlovebrand.png
END:VEVENT
END:VCALENDAR