BEGIN:VCALENDAR
VERSION:2.0
PRODID:-//Trickster&#039;s Hideout | Squamish BC - ECPv6.15.20//NONSGML v1.0//EN
CALSCALE:GREGORIAN
METHOD:PUBLISH
X-ORIGINAL-URL:https://trickstershideout.ca
X-WR-CALDESC:Events for Trickster&#039;s Hideout | Squamish BC
REFRESH-INTERVAL;VALUE=DURATION:PT1H
X-Robots-Tag:noindex
X-PUBLISHED-TTL:PT1H
BEGIN:VTIMEZONE
TZID:America/Vancouver
BEGIN:DAYLIGHT
TZOFFSETFROM:-0800
TZOFFSETTO:-0700
TZNAME:PDT
DTSTART:20240310T100000
END:DAYLIGHT
BEGIN:STANDARD
TZOFFSETFROM:-0700
TZOFFSETTO:-0800
TZNAME:PST
DTSTART:20241103T090000
END:STANDARD
BEGIN:DAYLIGHT
TZOFFSETFROM:-0800
TZOFFSETTO:-0700
TZNAME:PDT
DTSTART:20250309T100000
END:DAYLIGHT
BEGIN:STANDARD
TZOFFSETFROM:-0700
TZOFFSETTO:-0800
TZNAME:PST
DTSTART:20251102T090000
END:STANDARD
BEGIN:DAYLIGHT
TZOFFSETFROM:-0800
TZOFFSETTO:-0700
TZNAME:PDT
DTSTART:20260308T100000
END:DAYLIGHT
BEGIN:STANDARD
TZOFFSETFROM:-0700
TZOFFSETTO:-0800
TZNAME:PST
DTSTART:20261101T090000
END:STANDARD
END:VTIMEZONE
BEGIN:VEVENT
DTSTART;TZID=America/Vancouver:20250503T190000
DTEND;TZID=America/Vancouver:20250503T220000
DTSTAMP:20260421T083332
CREATED:20250327T201725Z
LAST-MODIFIED:20250327T201726Z
UID:10013991-1746298800-1746309600@trickstershideout.ca
SUMMARY:Makers Flea Trading Post: Pop Up
DESCRIPTION:Makers Flea Trading Post: Pop-Up at Tricksters Hideout! \n🛍️ Vintage\, Thrift & Festival Finds | 🎶 Vinyl Ritchie & Foxy Moron📅 May 3 | ⏰ 7 PM – 10 PM (or later!) | 📍 Tricksters Hideout\, Squamish\, BC \nJust in time for festival season\, we’re bringing the Makers Flea Trading Post to Tricksters Hideout for a pop-up! Whether you’re looking for your next vintage treasure\, thrifted gem\, or the perfect festival outfit\, this is your chance to shop\, and connect with local makers\, thrifters\, and curators of unique pieces. \n🎵 Soundtrack for the night? Absolute fire. We’ve got legendary crate-digger Vinyl Ritchie and disco queen Foxy Moron keeping the vibes high all night long with Squambhala\, starting at 10PM! Tickets are available now! \nAbout Makers Flea: A community-driven flea market and creative hub\, Makers Flea is all about showcasing hand-picked vintage\, upcycled fashion\, artisan goods\, and festival-ready style—supporting sustainability while keeping it stylish. \nCome early\, stay late\, and find something one-of-a-kind. 🔥 \n#MakersFlea #TrickstersHideout #SquambhalaPreParty #VintageVibes
URL:https://trickstershideout.ca/event/makers-flea-trading-post-pop-up/
LOCATION:Trickster’s Hideout\, 38005 Cleveland Ave\, Squamish\, BC\, V8B 0C3\, Canada
CATEGORIES:locals specials,markets,Special Event,Specials
ATTACH;FMTTYPE=image/png:https://trickstershideout.ca/wp-content/uploads/2025/03/TH-Event-Covers.update-6.png
END:VEVENT
BEGIN:VEVENT
DTSTART;TZID=America/Vancouver:20250524T110000
DTEND;TZID=America/Vancouver:20250524T170000
DTSTAMP:20260421T083332
CREATED:20250518T200747Z
LAST-MODIFIED:20250518T200748Z
UID:10014667-1748084400-1748106000@trickstershideout.ca
SUMMARY:Neighborhood Garage Sale
DESCRIPTION:SQUAMISH’S LARGEST GARAGE SALE IS ON MAY 24TH 11-5 PM at Trickster’s Hideout!\n\nSOLID MOUNTAIN PEOPLE GEAR! Brand name outdoor gear and clothing\, household goods\, clothing\, shoes\, runners\, skis\, skates\, art\, you name it – it will be there!\nSquamish is Spring Cleaning…that means we’re upgrading gear and selling our beloved treasures for GREAT prices!\n\nFAQ’s:Where? Trickster’s Hideout – Through the CRASH Hotel on Cleveland aka in the alley behind Cleveland Ave and 2nd at Victoria St- follow garage sale signs from the Farmer’s Market.\n\nBring cash\, or get cash back from the bar!\n\nCLIMB GEAR! MOUNTAIN BIKE GEAR! SKI GEAR! SNOWBOARD GEAR! EVERYTHING MOUNTAIN and more!\n\nWhat items will be for sale? Clothes\, skis\, shoes\, jewelery\, art\, home decor\, games\, baby clothes & accessories\, camp gear\, climb gear etc!\n\nLemonade for sale at Trickster’s Hideout as well snacks and other beverages to quench your thirst.
URL:https://trickstershideout.ca/event/neighborhood-garage-sale/
LOCATION:Trickster’s Hideout\, 38005 Cleveland Ave\, Squamish\, BC\, V8B 0C3\, Canada
CATEGORIES:locals specials,markets
ATTACH;FMTTYPE=image/png:https://trickstershideout.ca/wp-content/uploads/2025/05/TH-Event-Covers.update-4.png
END:VEVENT
END:VCALENDAR