BEGIN:VCALENDAR
VERSION:2.0
PRODID:-//Trickster&#039;s Hideout | Squamish BC - ECPv6.15.20//NONSGML v1.0//EN
CALSCALE:GREGORIAN
METHOD:PUBLISH
X-WR-CALNAME:Trickster&#039;s Hideout | Squamish BC
X-ORIGINAL-URL:https://trickstershideout.ca
X-WR-CALDESC:Events for Trickster&#039;s Hideout | Squamish BC
REFRESH-INTERVAL;VALUE=DURATION:PT1H
X-Robots-Tag:noindex
X-PUBLISHED-TTL:PT1H
BEGIN:VTIMEZONE
TZID:America/Vancouver
BEGIN:DAYLIGHT
TZOFFSETFROM:-0800
TZOFFSETTO:-0700
TZNAME:PDT
DTSTART:20230312T100000
END:DAYLIGHT
BEGIN:STANDARD
TZOFFSETFROM:-0700
TZOFFSETTO:-0800
TZNAME:PST
DTSTART:20231105T090000
END:STANDARD
BEGIN:DAYLIGHT
TZOFFSETFROM:-0800
TZOFFSETTO:-0700
TZNAME:PDT
DTSTART:20240310T100000
END:DAYLIGHT
BEGIN:STANDARD
TZOFFSETFROM:-0700
TZOFFSETTO:-0800
TZNAME:PST
DTSTART:20241103T090000
END:STANDARD
BEGIN:DAYLIGHT
TZOFFSETFROM:-0800
TZOFFSETTO:-0700
TZNAME:PDT
DTSTART:20250309T100000
END:DAYLIGHT
BEGIN:STANDARD
TZOFFSETFROM:-0700
TZOFFSETTO:-0800
TZNAME:PST
DTSTART:20251102T090000
END:STANDARD
END:VTIMEZONE
BEGIN:VEVENT
DTSTART;TZID=America/Vancouver:20240503T200000
DTEND;TZID=America/Vancouver:20240503T233000
DTSTAMP:20260424T145336
CREATED:20240423T235946Z
LAST-MODIFIED:20240423T235958Z
UID:10005492-1714766400-1714779000@trickstershideout.ca
SUMMARY:EMOTIONZ & SIRREAL - 2024 Spring Tour
DESCRIPTION:Join us for an unforgettable evening of live hip-hop performances featuring a stellar lineup including Emotionz\, and SIRREAL! Plus\, get ready to groove to additional beats spun by Dj Crippledwheel. \nMark your calendars for May 3rd\, 2024 and head down to Trickster’s Hideout located at 38005 Cleveland Avenue\, Squamish BC.  \nDoors open at 8 pm\, so arrive early to secure your spot for an electrifying night of music and entertainment. \nDon’t miss out on this incredible showcase of talent!\nGET TICKETS HERE Early Bird Tickets available! \nEmotionz: https://www.instagram.com/emotionz/?hl=en\nSIRREAL: SIRREAL: https://www.instagram.com/sirrealmusicofficial/?hl=en&img_index=1
URL:https://trickstershideout.ca/event/emotionz-sirreal-2024-spring-tour-2/
LOCATION:Trickster’s Hideout\, 38005 Cleveland Ave\, Squamish\, BC\, V8B 0C3\, Canada
CATEGORIES:Dance,DJ,Live Music,Special Event,Specials
ATTACH;FMTTYPE=image/png:https://trickstershideout.ca/wp-content/uploads/2024/04/Untitled-500-x-500-px.png
END:VEVENT
BEGIN:VEVENT
DTSTART;TZID=America/Vancouver:20240502T100000
DTEND;TZID=America/Vancouver:20240502T233000
DTSTAMP:20260424T145336
CREATED:20240423T205601Z
LAST-MODIFIED:20240426T192308Z
UID:10005490-1714644000-1714692600@trickstershideout.ca
SUMMARY:Industry Night - with Jeremy de Freitas
DESCRIPTION:Squamish Industry Nights! \nTrickster’s Hideout wants to thank our awesome hospitality workers! Squamish is known for having killer customer service and now it’s your opportunity to let loose\, unwind on YOUR weekend\, midweek! \nBring out the team to chill and get to be on the other side of the counter! \nALL-DAY SPECIALS\nLIVE MUSIC – Jeremy de Freitas from 8pm -11pm\nFree Entry  \nFOOD & DRINK SPECIALS\n$4 Well Shots\n$7 / $11 Wine (6oz / 9.5 oz)\n$5 Draft Beer & Kombucha\n$22 Full Charcuterie Board\n$6 Guac & Chips
URL:https://trickstershideout.ca/event/industry-night-with-jeremy-de-freitas/
LOCATION:Trickster’s Hideout\, 38005 Cleveland Ave\, Squamish\, BC\, V8B 0C3\, Canada
CATEGORIES:community support,Dance,Free Event,Live Music,locals specials,Special Event,Specials
ATTACH;FMTTYPE=image/jpeg:https://trickstershideout.ca/wp-content/uploads/2024/04/TH-Facebook-Event-Covers-6.jpg
END:VEVENT
BEGIN:VEVENT
DTSTART;TZID=America/Vancouver:20240501T190000
DTEND;TZID=America/Vancouver:20240501T220000
DTSTAMP:20260424T145336
CREATED:20231107T010508Z
LAST-MODIFIED:20240423T181534Z
UID:10005430-1714590000-1714600800@trickstershideout.ca
SUMMARY:Open Mic
DESCRIPTION:Squamish Open Mic Night – EVERY FIRST WEDNESDAY OF THE MONTH – Come out and be wowed by our local talent! It’s an evening of pure musical enchantment and unrivaled entertainment\n\n \nIt’s your time to shine like a star\, or just sit back and enjoy the show! From soulful serenades to stand-up comedy that’ll have you in stitches\, this evening promises to be an absolute blast. \n\n \nWhether you’re belting out your favorite tunes\, reciting poetry\, or dropping some epic jokes\, the mic is yours\, and the spotlight’s on you! \n\n \nSo bring your talent\, your friends\, and your A-game\, and let’s make this an unforgettable night of music\, laughter\, and memories. See you there! \n\nThere is no entry fee for this event!\n \nFollow our Events on Facebook
URL:https://trickstershideout.ca/event/open-mic-2/2024-05-01/
LOCATION:BC
CATEGORIES:Arts,Comedy,community support,Free Event,Live Music,locals specials,Special Event,Spoken Word
ATTACH;FMTTYPE=image/jpeg:https://trickstershideout.ca/wp-content/uploads/2023/11/open-mic.jpg
END:VEVENT
BEGIN:VEVENT
DTSTART;TZID=America/Vancouver:20240430T190000
DTEND;TZID=America/Vancouver:20240430T210000
DTSTAMP:20260424T145336
CREATED:20240422T233906Z
LAST-MODIFIED:20240423T163137Z
UID:10005419-1714503600-1714510800@trickstershideout.ca
SUMMARY:Going Deep - A Musical Comedy Show with Randii Andii
DESCRIPTION:Squamish welcomes Randii Andii\, musical comedian with a brilliant mind…and a dirty mouth! \nWith over 19 years of comedy under her belt\, her cross-Canada tour will have you hooked\, as she twists your favorite songs and unleashes the wit. She will be joined by Hector Rivas\, a Vancouver-based Venezuelan\, who brings on a unique world-view and physical comedy to have you on the floor.  \nTheir high-energy comedy slaps and nails our West Coast humor with a twist. \nYou will want front row seats to this show! LAUGH. CLAP. REPEAT. \nGET TICKETS HERE
URL:https://trickstershideout.ca/event/going-deep-a-musical-comedy-show-with-randii-andii/
LOCATION:Trickster’s Hideout\, 38005 Cleveland Ave\, Squamish\, BC\, V8B 0C3\, Canada
CATEGORIES:Arts,Comedy,IMPROV,Special Event,Specials
ATTACH;FMTTYPE=image/png:https://trickstershideout.ca/wp-content/uploads/2024/04/thumbnails500-x-500-px-1.png
END:VEVENT
BEGIN:VEVENT
DTSTART;TZID=America/Vancouver:20240428T190000
DTEND;TZID=America/Vancouver:20240428T210000
DTSTAMP:20260424T145336
CREATED:20240422T231930Z
LAST-MODIFIED:20240426T195530Z
UID:10005418-1714330800-1714338000@trickstershideout.ca
SUMMARY:Jazz Quartet
DESCRIPTION:Soothe Your Soul Sundays! \nJoin us for a laid-back evening filled with great music and even better deals! Swing by and groove to the smooth sounds of our local Jazz Quartet\, setting the perfect backdrop for your night out. \nLive Music from 7pm – 9pm \nAnd here’s the cherry on top: SUNDAY SPECIALS \nEnjoy free pool all evening and score a sweet 20% off on all coffee cocktails. No cover\, just good vibes and great savings. See you there! \nGET TICKETS HERE
URL:https://trickstershideout.ca/event/jazz-quartet/
LOCATION:Trickster’s Hideout\, 38005 Cleveland Ave\, Squamish\, BC\, V8B 0C3\, Canada
CATEGORIES:Arts,Free Event,live band,Live Music,locals specials,Special Event,Specials
ATTACH;FMTTYPE=image/png:https://trickstershideout.ca/wp-content/uploads/2024/04/Jazz-Quartet.png
END:VEVENT
BEGIN:VEVENT
DTSTART;TZID=America/Vancouver:20240427T200000
DTEND;TZID=America/Vancouver:20240428T020000
DTSTAMP:20260424T145336
CREATED:20240406T192839Z
LAST-MODIFIED:20240406T192839Z
UID:10003736-1714248000-1714269600@trickstershideout.ca
SUMMARY:2BEHAVE: Disco Night in Squamish
DESCRIPTION:Groovy\, baby! 🌼✌️ \nUnleash your inner mojo at Tricksters Hideout for 2BEHAVE by NothingProductions! Ohhhhh 2BEHAVE\, baby! \nLet DJs Cj\, Vortoozo\, and Lefty take you on a psychedelic journey from disco to bass-heavy electro funk\, where the beats are as smooth as Austin Powers’ moves. It’s time to strut your stuff and dance like it’s the swinging ’60s! See you there\, baby! 🎶🕺 \nGET TICKETS HERE
URL:https://trickstershideout.ca/event/2behave-disco-night-in-squamish/
LOCATION:Trickster’s Hideout\, 38005 Cleveland Ave\, Squamish\, BC\, V8B 0C3\, Canada
CATEGORIES:Dance,DJ,Live Music,Special Event
ATTACH;FMTTYPE=image/jpeg:https://trickstershideout.ca/wp-content/uploads/2024/04/2behavefinal.jpg
END:VEVENT
BEGIN:VEVENT
DTSTART;TZID=America/Vancouver:20240426T190000
DTEND;TZID=America/Vancouver:20240426T223000
DTSTAMP:20260424T145336
CREATED:20240422T213741Z
LAST-MODIFIED:20240422T213845Z
UID:10003255-1714158000-1714170600@trickstershideout.ca
SUMMARY:Big Fat Comedy Show
DESCRIPTION:BOMB COMEDY PRESENTS… \nThe Big Fat Comedy Show the last Friday of every month! \n\nSquamish’s favourite night ofSTAND-UP is back at Trickster’s Hideout on April 26th! \nVancouver’s musical comedian\, Harris Anderson\, takes the stage this Friday – a stand-up Swiss Army knife\, Harris combines music\, voices\, impressions\, and razor-sharp observations into an endlessly entertaining package.  \nJeremy Meakins will use his storytelling skills to have us rolling on the floor laughing. \nAnd\, as always\, we will showcase our very own Sea to Sky Comedians to kick things off! \nEARLY SHOW: Doors at 6pm; show at 7pm\nLATE SHOW: Doors at 930pm; show at 10pm* \n*Late-show ticketholders are eligible for a Big Fat Prize Giveaway! More details to come.\nGeneral admission: $20 \nVIP package for 2: $95 (includes table seating\, 2 tickets\, 2 drinks\, and a shared charcuterie board) \nFood & Drink Specials available – Grab a beer & sando special or Corona Buckets to share!\nNew Fresh Made Sandwiches!\n\nBuy advance tickets here
URL:https://trickstershideout.ca/event/big-fat-comedy-show-3-5/
LOCATION:BC
CATEGORIES:Arts,Comedy,community support,IMPROV,locals specials,Special Event,Specials
ATTACH;FMTTYPE=image/jpeg:https://trickstershideout.ca/wp-content/uploads/2023/12/Big-Fat-Comedy.jpg
END:VEVENT
BEGIN:VEVENT
DTSTART;TZID=America/Vancouver:20240424T180000
DTEND;TZID=America/Vancouver:20240424T210000
DTSTAMP:20260424T145336
CREATED:20231203T235748Z
LAST-MODIFIED:20231222T054928Z
UID:10003100-1713981600-1713992400@trickstershideout.ca
SUMMARY:The Long and Short\, Storytelling Night
DESCRIPTION:Title: The Long & Short Story Night \nDate: Every last Wednesday of the month until March 2024! \nThe Long & Short is a live storytelling event that connects the Sea to Sky through true and personal stories. Each event is centered around a theme where everyone and anyone is invited to share their tales. \nThe rules: stories must be true\, have happened to you and be 5 minutes long. \nThe theme: TBA! More details coming soon \nGrab your seats at 6.30pm\, stories begin at 7pm \nYou can sign up on the night or in advance by emailing longandshortbc@gmail.com.
URL:https://trickstershideout.ca/event/the-long-and-short-storytelling-night-2/2024-04-24/
LOCATION:BC
CATEGORIES:Special Event
ATTACH;FMTTYPE=image/png:https://trickstershideout.ca/wp-content/uploads/2023/12/Screenshot-2023-12-21-at-9.49.05-PM.png
END:VEVENT
END:VCALENDAR