BEGIN:VCALENDAR
VERSION:2.0
PRODID:-//Trickster&#039;s Hideout | Squamish BC - ECPv6.15.20//NONSGML v1.0//EN
CALSCALE:GREGORIAN
METHOD:PUBLISH
X-WR-CALNAME:Trickster&#039;s Hideout | Squamish BC
X-ORIGINAL-URL:https://trickstershideout.ca
X-WR-CALDESC:Events for Trickster&#039;s Hideout | Squamish BC
REFRESH-INTERVAL;VALUE=DURATION:PT1H
X-Robots-Tag:noindex
X-PUBLISHED-TTL:PT1H
BEGIN:VTIMEZONE
TZID:America/Vancouver
BEGIN:DAYLIGHT
TZOFFSETFROM:-0800
TZOFFSETTO:-0700
TZNAME:PDT
DTSTART:20230312T100000
END:DAYLIGHT
BEGIN:STANDARD
TZOFFSETFROM:-0700
TZOFFSETTO:-0800
TZNAME:PST
DTSTART:20231105T090000
END:STANDARD
BEGIN:DAYLIGHT
TZOFFSETFROM:-0800
TZOFFSETTO:-0700
TZNAME:PDT
DTSTART:20240310T100000
END:DAYLIGHT
BEGIN:STANDARD
TZOFFSETFROM:-0700
TZOFFSETTO:-0800
TZNAME:PST
DTSTART:20241103T090000
END:STANDARD
BEGIN:DAYLIGHT
TZOFFSETFROM:-0800
TZOFFSETTO:-0700
TZNAME:PDT
DTSTART:20250309T100000
END:DAYLIGHT
BEGIN:STANDARD
TZOFFSETFROM:-0700
TZOFFSETTO:-0800
TZNAME:PST
DTSTART:20251102T090000
END:STANDARD
END:VTIMEZONE
BEGIN:VEVENT
DTSTART;TZID=America/Vancouver:20240514T190000
DTEND;TZID=America/Vancouver:20240514T210000
DTSTAMP:20260420T151258
CREATED:20240502T175020Z
LAST-MODIFIED:20240514T064406Z
UID:10005618-1715713200-1715720400@trickstershideout.ca
SUMMARY:SAVE THE DATE - Speed Dating (35-45)
DESCRIPTION:Get ready to rev your love engines and shift into high gear at Squamish’s most exhilarating Speed Dating Spectacular\, this edition of Save The Date is for ages 35-45! \nGrab your $5 ticket\, and buckle up for a rollercoaster ride of romance where every participant gets an automatic entry to win a Trickster’s Hideout gift card for the ultimate date night adventure\, for you and your potential love match! \nWe’ve all been there – navigating the treacherous dating landscape of Squamish can feel like trying to find a needle in a haystack while riding a unicycle! But fear not\, because we’re here to inject some excitement into your quest for love. \nPicture this: you\, surrounded by like-minded singles\, engaging in fast-paced conversations that’ll leave you breathless (in a good way\, of course). Whether you’re a seasoned dater or dipping your toes back into the pool\, our event promises an evening filled with laughter\, connection\, and who knows\, maybe even a little bit of magic. \nSo\, ditch the dating apps and join us for a night where sparks fly faster than a downhill mountain biker. Who knows\, you might just find your perfect match while enjoying the thrill of the chase! Don’t miss out on the chance to laugh\, flirt\, and potentially find your happily ever after. \nGET TICKETS HERE
URL:https://trickstershideout.ca/event/save-the-date-speed-dating-30-40/
LOCATION:Trickster’s Hideout\, 38005 Cleveland Ave\, Squamish\, BC\, V8B 0C3\, Canada
CATEGORIES:community support,DJ,locals specials,Special Event,Specials
ATTACH;FMTTYPE=image/jpeg:https://trickstershideout.ca/wp-content/uploads/2024/05/savethedate0514-1.jpg
END:VEVENT
BEGIN:VEVENT
DTSTART;TZID=America/Vancouver:20240511T210000
DTEND;TZID=America/Vancouver:20240512T020000
DTSTAMP:20260420T151258
CREATED:20240426T215952Z
LAST-MODIFIED:20240426T221047Z
UID:10005615-1715461200-1715479200@trickstershideout.ca
SUMMARY:RUMBLE IN THE JUNGLE W/ MISTA TRICK
DESCRIPTION:ONCE WE STEPPED OFF OF THE BOAT & INTO THE JUNGLE … SILENCE GOT BLOWN APART! \n🌿🔊 RUMBLE IN THE JUNGLE this Saturday 🔊🌿  \nJungle & Reggae Dub for all Squamish Jungalists to stomp and party! Cj of NothingProductions.live will be curating a live light show to really bring the jungle to us! \nImmerse yourself in the pulsating rhythms of the jungle as we bring you an electrifying night of Jungle music and reggae dub! \nAll our favorite local DJs take the stage!\nDJ KWEST | 9PM – 10:30PM\nDJ DETRACT | 10:30PM – 12AM\nMISTA TRICK | 12AM – 2AM \n🎟️ Ticket Information  || GET TICKETS HERE \n🎟️Early bird tickets – $10\n🎟️General Admission – $15\n🎟️Door Tickets – $20 \n🔊  MISTA TRICK\n🌴 Event Details\n📅 Date: Saturday\, May 11\n🕒 Time: 9PM-2AM\n📍 Location: Trickster’s Hideout – 38005 Cleveland Avenue\, Squamish\, BC
URL:https://trickstershideout.ca/event/rumble-in-the-jungle-w-mista-trick/
LOCATION:Trickster’s Hideout\, 38005 Cleveland Ave\, Squamish\, BC\, V8B 0C3\, Canada
CATEGORIES:Dance,DJ,drums,Live Music,locals specials,Special Event,Specials
ATTACH;FMTTYPE=image/jpeg:https://trickstershideout.ca/wp-content/uploads/2024/04/rumbleinthejungle.cover_.final-1.jpg
END:VEVENT
BEGIN:VEVENT
DTSTART;TZID=America/Vancouver:20240510T220000
DTEND;TZID=America/Vancouver:20240511T020000
DTSTAMP:20260420T151258
CREATED:20240426T213440Z
LAST-MODIFIED:20240426T213441Z
UID:10005614-1715378400-1715392800@trickstershideout.ca
SUMMARY:The Brice Tabish Band - Live Concert
DESCRIPTION:🎸 Live in Concert: The Brice Tabish Band \nClassic Rock BC legends bringing us bangin’ covers and an array of originals the Brice Tabish Band is a show you won’t want to miss. Head bangers\, and music to rock out to on a Squamish Friday Night! \nBorn in Campbell River and now a fixture in Vancouver’s music scene\, Brice Tabish has graced stages across Canada and beyond. From sharing stages with legends to performing on the Sunset Strip\, Brice’s journey is as diverse as it is impressive. With influences ranging from rock to blues\, their debut album “Living In A Number Game” promises an unforgettable experience. Don’t miss out!  \n$10 early bird tickets\n$15 regular tickets \n📅 Date: 10th of May\n🕒 Time: 10PM-2AM\n📍 Venue: Tricksters Hideout \nGET TICKETS HERE
URL:https://trickstershideout.ca/event/the-brice-tabish-band-live-concert/
LOCATION:Trickster’s Hideout\, 38005 Cleveland Ave\, Squamish\, BC\, V8B 0C3\, Canada
CATEGORIES:live band,Live Music,Special Event,Specials
ATTACH;FMTTYPE=image/jpeg:https://trickstershideout.ca/wp-content/uploads/2024/04/brice-tabish-cover.jpg
END:VEVENT
BEGIN:VEVENT
DTSTART;TZID=America/Vancouver:20240508T193000
DTEND;TZID=America/Vancouver:20240508T203000
DTSTAMP:20260420T151258
CREATED:20240426T200146Z
LAST-MODIFIED:20240426T200910Z
UID:10005554-1715196600-1715200200@trickstershideout.ca
SUMMARY:IMPROVSTERS: Wacky Wednesdays Improv Comedy Show
DESCRIPTION:Join Wacky Wednesday Improv Extravaganza at Trickster’s Hideout😃 \nGet ready for a night filled with laughter\, creativity\, and spontaneous fun. Our talented improv performers will have you on the edge of your seat as they create hilarious scenes on the spot. Join us for a one-of-a-kind Squamish experience that will leave you wanting more 😆 \nLike all Improv shows you can expect audience interaction\, but only if you choose. Upon entry you will be given the option to choose a coloured sticker to indicate how much you’d like to be involved. \nGreen: You want to get up on stage and give prompts\nYellow: You only want to give prompts\nRed: You’re just here to laugh and be entertained \nLink to tickets 👉 BUY TICKETS
URL:https://trickstershideout.ca/event/improvsters-wacky-wednesdays-improv-comedy-show/
LOCATION:Trickster’s Hideout\, 38005 Cleveland Ave\, Squamish\, BC\, V8B 0C3\, Canada
CATEGORIES:Arts,Comedy,community support,IMPROV,locals specials,Special Event,Specials
ATTACH;FMTTYPE=image/png:https://trickstershideout.ca/wp-content/uploads/2024/04/May-Improvsters-show-1-1.png
END:VEVENT
BEGIN:VEVENT
DTSTART;TZID=America/Vancouver:20240507T180000
DTEND;TZID=America/Vancouver:20240507T200000
DTSTAMP:20260420T151258
CREATED:20240502T170441Z
LAST-MODIFIED:20240502T173739Z
UID:10005617-1715104800-1715112000@trickstershideout.ca
SUMMARY:Ecstatic Dance & Drum Circle
DESCRIPTION:A collaboration with Dance Temple Squamish & William Wallace at Trickster’s Hideout. \nWhat is Ecstatic Dance? \nEcstatic dance is free form dance & movement to achieve a meditative state. This natural state of being\, pure existence – allowing your body to exist without judgment or rules of shape and space – shifts your awareness of self and can create a euphoric\, calming feeling which can allow your mind to enter an ecstatic state of happiness. \nAllow your body to feel the music flow through it and feel the beat of the drums echo from within. The deep rich tones of the drums will take you deep within and help you discover yourself as your heart beat connects to the rhythms.  \nThe first 20 minutes William Wallace will host a short drum tutorial to learn a rhythm\, if you feel inspired to drum throughout the dance. There will be some drums available for use.\nBring your own drum if you have one and would like to drum and/or learn! \nDance Temple Squamish has been hosting their ecstatic dances every month and always provides a safe\, inclusive and welcoming environment of  love and acceptance.  It is a safe space for you to truly express yourself. \nThis is a ticketed event\, ADVANCE REGISTRATION strongly recommended. Trickster’s Hideout will be closed to the public to provide a safe and private event.  \nREGISTER HERE \nKombucha & Snacks available before & after.\n$6 Draft Kombucha\n$6 Guac & Chips \nFollow Dance Temple Squamish on Facebook for more events \nShare this event!
URL:https://trickstershideout.ca/event/ecstatic-dance-drum-circle/
LOCATION:Trickster’s Hideout\, 38005 Cleveland Ave\, Squamish\, BC\, V8B 0C3\, Canada
CATEGORIES:community support,Dance,DJ,drums,Live Music,locals specials,Special Event
ATTACH;FMTTYPE=image/png:https://trickstershideout.ca/wp-content/uploads/2024/05/Dance-Temple-FB-Event-Cover-Tricksters-1.png
END:VEVENT
BEGIN:VEVENT
DTSTART;TZID=America/Vancouver:20240506T170000
DTEND;TZID=America/Vancouver:20240506T200000
DTSTAMP:20260420T151258
CREATED:20240406T172906Z
LAST-MODIFIED:20240712T194920Z
UID:10008636-1715014800-1715025600@trickstershideout.ca
SUMMARY:S2S Entrepreneur Meet Up
DESCRIPTION:Kombucha\, chips & dip\, connections!  \nJoin our business minded group\, sharing stories\, swapping solutions\, and supporting each other in our business endeavors\, whether you are in the inception phase\, growing or ready to exit. \nThis Thursday at Trickster’s Hideout from 5pm – 8pm join us for drinks and snacks and talking all things business\, projects and more!\n👉 RSVP Here
URL:https://trickstershideout.ca/event/s2s-entrepreneur-meet-up/2024-05-06/
LOCATION:Trickster’s Hideout\, 38005 Cleveland Ave\, Squamish\, BC\, V8B 0C3\, Canada
CATEGORIES:Business,community support,Free Event,Special Event
ATTACH;FMTTYPE=image/jpeg:https://trickstershideout.ca/wp-content/uploads/2024/04/Entrepreneur-MeetUp.jpg
END:VEVENT
BEGIN:VEVENT
DTSTART;TZID=America/Vancouver:20240505T200000
DTEND;TZID=America/Vancouver:20240505T220000
DTSTAMP:20260420T151258
CREATED:20240425T222129Z
LAST-MODIFIED:20240425T230036Z
UID:10005493-1714939200-1714946400@trickstershideout.ca
SUMMARY:BURNSTICK - Juno nominated folk band
DESCRIPTION:JUNO Nominated Métis Duo\, Jason & Nadia\, push the boundaries of contemporary folk music\, with slide guitars and striking vocals! Get ready for a unique and awe-inspiring performance! \n  Check out BURNSTICK HERE \nTheir unique ability to compose authentic and expressive soundscapes creates unforgettable musical experiences. They have worked on a multitude of award-winning film and television projects throughout the years.  A family unified and guided by music\, Burnstick has no plans of stopping anytime soon\, as they are set to release their sophomore album this upcoming spring. \n LISTEN HERE\n Tickets by Donation & All Donations go direct to the Artists \n GET TICKETS HERE
URL:https://trickstershideout.ca/event/burnstick-juno-nominated-folk-band/
LOCATION:Trickster’s Hideout\, 38005 Cleveland Ave\, Squamish\, BC\, V8B 0C3\, Canada
CATEGORIES:Arts,community support,Free Event,live band,Live Music,locals specials,Special Event
ATTACH;FMTTYPE=image/jpeg:https://trickstershideout.ca/wp-content/uploads/2024/04/BurnStick.jpg
END:VEVENT
BEGIN:VEVENT
DTSTART;TZID=America/Vancouver:20240504T210000
DTEND;TZID=America/Vancouver:20240504T233000
DTSTAMP:20260420T151258
CREATED:20240423T224038Z
LAST-MODIFIED:20240425T194606Z
UID:10005491-1714856400-1714865400@trickstershideout.ca
SUMMARY:Burlesque
DESCRIPTION:Step into a world of wonder and delight at the Dandy Burlesque\, hosted by the charismatic @dandyandfriends!  \nJoin us on May 4th at 9PM for an unforgettable evening at the enchanting Tricksters Hideout in Squamish\, BC. \nPrepare to be mesmerized as four sensational burlesque dancers from Vancouver grace the stage with their captivating performances. From sultry seduction to high-energy spectacle\, each act promises to dazzle and enthrall. \nAdding to the allure\, the renowned Soiluva Dance Companywill weave their spellbinding choreography into the night\, elevating the atmosphere with their exquisite movements. \nWe invite you to immerse yourself fully in the spirit by dressing in your most extravagant dandie attire. Let your imagination run wild as you don your finest masks\, gowns\, and suits\, and become part of the spectacle! \nDon’t miss your chance to experience this one-of-a-kind event where fantasy meets reality. \nSecure your tickets now for a night of glamour\, excitement\, and pure enchantment.
URL:https://trickstershideout.ca/event/carnival-ball-burlesque/
LOCATION:Trickster’s Hideout\, 38005 Cleveland Ave\, Squamish\, BC\, V8B 0C3\, Canada
CATEGORIES:Arts,Comedy,community support,Dance,Live Music,locals specials,Special Event,Specials
ATTACH;FMTTYPE=image/jpeg:https://trickstershideout.ca/wp-content/uploads/2024/04/0504.BURLESQUE-2.jpg
END:VEVENT
BEGIN:VEVENT
DTSTART;TZID=America/Vancouver:20240503T200000
DTEND;TZID=America/Vancouver:20240503T233000
DTSTAMP:20260420T151258
CREATED:20240423T235946Z
LAST-MODIFIED:20240423T235958Z
UID:10005492-1714766400-1714779000@trickstershideout.ca
SUMMARY:EMOTIONZ & SIRREAL - 2024 Spring Tour
DESCRIPTION:Join us for an unforgettable evening of live hip-hop performances featuring a stellar lineup including Emotionz\, and SIRREAL! Plus\, get ready to groove to additional beats spun by Dj Crippledwheel. \nMark your calendars for May 3rd\, 2024 and head down to Trickster’s Hideout located at 38005 Cleveland Avenue\, Squamish BC.  \nDoors open at 8 pm\, so arrive early to secure your spot for an electrifying night of music and entertainment. \nDon’t miss out on this incredible showcase of talent!\nGET TICKETS HERE Early Bird Tickets available! \nEmotionz: https://www.instagram.com/emotionz/?hl=en\nSIRREAL: SIRREAL: https://www.instagram.com/sirrealmusicofficial/?hl=en&img_index=1
URL:https://trickstershideout.ca/event/emotionz-sirreal-2024-spring-tour-2/
LOCATION:Trickster’s Hideout\, 38005 Cleveland Ave\, Squamish\, BC\, V8B 0C3\, Canada
CATEGORIES:Dance,DJ,Live Music,Special Event,Specials
ATTACH;FMTTYPE=image/png:https://trickstershideout.ca/wp-content/uploads/2024/04/Untitled-500-x-500-px.png
END:VEVENT
BEGIN:VEVENT
DTSTART;TZID=America/Vancouver:20240502T100000
DTEND;TZID=America/Vancouver:20240502T233000
DTSTAMP:20260420T151258
CREATED:20240423T205601Z
LAST-MODIFIED:20240426T192308Z
UID:10005490-1714644000-1714692600@trickstershideout.ca
SUMMARY:Industry Night - with Jeremy de Freitas
DESCRIPTION:Squamish Industry Nights! \nTrickster’s Hideout wants to thank our awesome hospitality workers! Squamish is known for having killer customer service and now it’s your opportunity to let loose\, unwind on YOUR weekend\, midweek! \nBring out the team to chill and get to be on the other side of the counter! \nALL-DAY SPECIALS\nLIVE MUSIC – Jeremy de Freitas from 8pm -11pm\nFree Entry  \nFOOD & DRINK SPECIALS\n$4 Well Shots\n$7 / $11 Wine (6oz / 9.5 oz)\n$5 Draft Beer & Kombucha\n$22 Full Charcuterie Board\n$6 Guac & Chips
URL:https://trickstershideout.ca/event/industry-night-with-jeremy-de-freitas/
LOCATION:Trickster’s Hideout\, 38005 Cleveland Ave\, Squamish\, BC\, V8B 0C3\, Canada
CATEGORIES:community support,Dance,Free Event,Live Music,locals specials,Special Event,Specials
ATTACH;FMTTYPE=image/jpeg:https://trickstershideout.ca/wp-content/uploads/2024/04/TH-Facebook-Event-Covers-6.jpg
END:VEVENT
BEGIN:VEVENT
DTSTART;TZID=America/Vancouver:20240501T190000
DTEND;TZID=America/Vancouver:20240501T220000
DTSTAMP:20260420T151258
CREATED:20231107T010508Z
LAST-MODIFIED:20240423T181534Z
UID:10005430-1714590000-1714600800@trickstershideout.ca
SUMMARY:Open Mic
DESCRIPTION:Squamish Open Mic Night – EVERY FIRST WEDNESDAY OF THE MONTH – Come out and be wowed by our local talent! It’s an evening of pure musical enchantment and unrivaled entertainment\n\n \nIt’s your time to shine like a star\, or just sit back and enjoy the show! From soulful serenades to stand-up comedy that’ll have you in stitches\, this evening promises to be an absolute blast. \n\n \nWhether you’re belting out your favorite tunes\, reciting poetry\, or dropping some epic jokes\, the mic is yours\, and the spotlight’s on you! \n\n \nSo bring your talent\, your friends\, and your A-game\, and let’s make this an unforgettable night of music\, laughter\, and memories. See you there! \n\nThere is no entry fee for this event!\n \nFollow our Events on Facebook
URL:https://trickstershideout.ca/event/open-mic-2/2024-05-01/
LOCATION:BC
CATEGORIES:Arts,Comedy,community support,Free Event,Live Music,locals specials,Special Event,Spoken Word
ATTACH;FMTTYPE=image/jpeg:https://trickstershideout.ca/wp-content/uploads/2023/11/open-mic.jpg
END:VEVENT
BEGIN:VEVENT
DTSTART;TZID=America/Vancouver:20240430T190000
DTEND;TZID=America/Vancouver:20240430T210000
DTSTAMP:20260420T151258
CREATED:20240422T233906Z
LAST-MODIFIED:20240423T163137Z
UID:10005419-1714503600-1714510800@trickstershideout.ca
SUMMARY:Going Deep - A Musical Comedy Show with Randii Andii
DESCRIPTION:Squamish welcomes Randii Andii\, musical comedian with a brilliant mind…and a dirty mouth! \nWith over 19 years of comedy under her belt\, her cross-Canada tour will have you hooked\, as she twists your favorite songs and unleashes the wit. She will be joined by Hector Rivas\, a Vancouver-based Venezuelan\, who brings on a unique world-view and physical comedy to have you on the floor.  \nTheir high-energy comedy slaps and nails our West Coast humor with a twist. \nYou will want front row seats to this show! LAUGH. CLAP. REPEAT. \nGET TICKETS HERE
URL:https://trickstershideout.ca/event/going-deep-a-musical-comedy-show-with-randii-andii/
LOCATION:Trickster’s Hideout\, 38005 Cleveland Ave\, Squamish\, BC\, V8B 0C3\, Canada
CATEGORIES:Arts,Comedy,IMPROV,Special Event,Specials
ATTACH;FMTTYPE=image/png:https://trickstershideout.ca/wp-content/uploads/2024/04/thumbnails500-x-500-px-1.png
END:VEVENT
BEGIN:VEVENT
DTSTART;TZID=America/Vancouver:20240428T190000
DTEND;TZID=America/Vancouver:20240428T210000
DTSTAMP:20260420T151258
CREATED:20240422T231930Z
LAST-MODIFIED:20240426T195530Z
UID:10005418-1714330800-1714338000@trickstershideout.ca
SUMMARY:Jazz Quartet
DESCRIPTION:Soothe Your Soul Sundays! \nJoin us for a laid-back evening filled with great music and even better deals! Swing by and groove to the smooth sounds of our local Jazz Quartet\, setting the perfect backdrop for your night out. \nLive Music from 7pm – 9pm \nAnd here’s the cherry on top: SUNDAY SPECIALS \nEnjoy free pool all evening and score a sweet 20% off on all coffee cocktails. No cover\, just good vibes and great savings. See you there! \nGET TICKETS HERE
URL:https://trickstershideout.ca/event/jazz-quartet/
LOCATION:Trickster’s Hideout\, 38005 Cleveland Ave\, Squamish\, BC\, V8B 0C3\, Canada
CATEGORIES:Arts,Free Event,live band,Live Music,locals specials,Special Event,Specials
ATTACH;FMTTYPE=image/png:https://trickstershideout.ca/wp-content/uploads/2024/04/Jazz-Quartet.png
END:VEVENT
BEGIN:VEVENT
DTSTART;TZID=America/Vancouver:20240427T200000
DTEND;TZID=America/Vancouver:20240428T020000
DTSTAMP:20260420T151258
CREATED:20240406T192839Z
LAST-MODIFIED:20240406T192839Z
UID:10003736-1714248000-1714269600@trickstershideout.ca
SUMMARY:2BEHAVE: Disco Night in Squamish
DESCRIPTION:Groovy\, baby! 🌼✌️ \nUnleash your inner mojo at Tricksters Hideout for 2BEHAVE by NothingProductions! Ohhhhh 2BEHAVE\, baby! \nLet DJs Cj\, Vortoozo\, and Lefty take you on a psychedelic journey from disco to bass-heavy electro funk\, where the beats are as smooth as Austin Powers’ moves. It’s time to strut your stuff and dance like it’s the swinging ’60s! See you there\, baby! 🎶🕺 \nGET TICKETS HERE
URL:https://trickstershideout.ca/event/2behave-disco-night-in-squamish/
LOCATION:Trickster’s Hideout\, 38005 Cleveland Ave\, Squamish\, BC\, V8B 0C3\, Canada
CATEGORIES:Dance,DJ,Live Music,Special Event
ATTACH;FMTTYPE=image/jpeg:https://trickstershideout.ca/wp-content/uploads/2024/04/2behavefinal.jpg
END:VEVENT
BEGIN:VEVENT
DTSTART;TZID=America/Vancouver:20240426T190000
DTEND;TZID=America/Vancouver:20240426T223000
DTSTAMP:20260420T151258
CREATED:20240422T213741Z
LAST-MODIFIED:20240422T213845Z
UID:10003255-1714158000-1714170600@trickstershideout.ca
SUMMARY:Big Fat Comedy Show
DESCRIPTION:BOMB COMEDY PRESENTS… \nThe Big Fat Comedy Show the last Friday of every month! \n\nSquamish’s favourite night ofSTAND-UP is back at Trickster’s Hideout on April 26th! \nVancouver’s musical comedian\, Harris Anderson\, takes the stage this Friday – a stand-up Swiss Army knife\, Harris combines music\, voices\, impressions\, and razor-sharp observations into an endlessly entertaining package.  \nJeremy Meakins will use his storytelling skills to have us rolling on the floor laughing. \nAnd\, as always\, we will showcase our very own Sea to Sky Comedians to kick things off! \nEARLY SHOW: Doors at 6pm; show at 7pm\nLATE SHOW: Doors at 930pm; show at 10pm* \n*Late-show ticketholders are eligible for a Big Fat Prize Giveaway! More details to come.\nGeneral admission: $20 \nVIP package for 2: $95 (includes table seating\, 2 tickets\, 2 drinks\, and a shared charcuterie board) \nFood & Drink Specials available – Grab a beer & sando special or Corona Buckets to share!\nNew Fresh Made Sandwiches!\n\nBuy advance tickets here
URL:https://trickstershideout.ca/event/big-fat-comedy-show-3-5/
LOCATION:BC
CATEGORIES:Arts,Comedy,community support,IMPROV,locals specials,Special Event,Specials
ATTACH;FMTTYPE=image/jpeg:https://trickstershideout.ca/wp-content/uploads/2023/12/Big-Fat-Comedy.jpg
END:VEVENT
BEGIN:VEVENT
DTSTART;TZID=America/Vancouver:20240424T180000
DTEND;TZID=America/Vancouver:20240424T210000
DTSTAMP:20260420T151258
CREATED:20231203T235748Z
LAST-MODIFIED:20231222T054928Z
UID:10003100-1713981600-1713992400@trickstershideout.ca
SUMMARY:The Long and Short\, Storytelling Night
DESCRIPTION:Title: The Long & Short Story Night \nDate: Every last Wednesday of the month until March 2024! \nThe Long & Short is a live storytelling event that connects the Sea to Sky through true and personal stories. Each event is centered around a theme where everyone and anyone is invited to share their tales. \nThe rules: stories must be true\, have happened to you and be 5 minutes long. \nThe theme: TBA! More details coming soon \nGrab your seats at 6.30pm\, stories begin at 7pm \nYou can sign up on the night or in advance by emailing longandshortbc@gmail.com.
URL:https://trickstershideout.ca/event/the-long-and-short-storytelling-night-2/2024-04-24/
LOCATION:BC
CATEGORIES:Special Event
ATTACH;FMTTYPE=image/png:https://trickstershideout.ca/wp-content/uploads/2023/12/Screenshot-2023-12-21-at-9.49.05-PM.png
END:VEVENT
BEGIN:VEVENT
DTSTART;TZID=America/Vancouver:20240423T190000
DTEND;TZID=America/Vancouver:20240423T210000
DTSTAMP:20260420T151258
CREATED:20240406T181824Z
LAST-MODIFIED:20240406T191710Z
UID:10003735-1713898800-1713906000@trickstershideout.ca
SUMMARY:SAVE THE DATE | Speed Dating
DESCRIPTION:REV your love engines and shift into high gear at Squamish’s most exhilarating Speed Dating Spectacular\, this edition of Save The Date is for ages 40-50! \nBuckle up for a rollercoaster ride of romance where every participant gets an automatic entry to win a Trickster’s Hideout gift card for the ultimate date night adventure\, for you and your potential love match! \nPicture this: You\, surrounded by like-minded singles\, engaging in fast-paced conversations that’ll leave you breathless – in a good way ;P\nBe ready for laughs\, connection\, and who knows\, maybe even a little bit of magic. \nDitch the dating apps and join us for a night where sparks fly faster than a downhill mountain biker. Who knows\, you might just find your perfect match while enjoying the thrill of the chase! Don’t miss out on the chance to laugh\, flirt\, and find your happily ever after. \nAdvance registration encouraged! Book Now
URL:https://trickstershideout.ca/event/savethedate-2/
LOCATION:Trickster’s Hideout\, 38005 Cleveland Ave\, Squamish\, BC\, V8B 0C3\, Canada
CATEGORIES:Comedy,community support,DJ,Special Event,Specials
ATTACH;FMTTYPE=image/jpeg:https://trickstershideout.ca/wp-content/uploads/2024/04/savethedate-0423.jpg
END:VEVENT
BEGIN:VEVENT
DTSTART;TZID=America/Vancouver:20240421T180000
DTEND;TZID=America/Vancouver:20240421T220000
DTSTAMP:20260420T151258
CREATED:20240417T231033Z
LAST-MODIFIED:20240417T231033Z
UID:10003999-1713722400-1713736800@trickstershideout.ca
SUMMARY:The Verdant Pulse - ART SHOW - Sarah Afskoven
DESCRIPTION:Join us for an evening of artwork\, cocktails and canapes as we host the opening of ‘The Verdant Pulse’\, a new collection of paintings by Squamish artist Sarah Afskoven. Born in Vancouver\, she has traveled and lived all across Canada\, taking in elements of each location across the into her artworks. An avid outdoorperson\, she has spent her years hiking\, mountaineering\, and racing in ultramarathons when not exploring her creative endeavours. \nNow\, based in Squamish\, she has melded both of her artistic passions in this new collection: soft\, realistic expression of the human figure\, and the vivid\, textured depths of the local landscape. These paintings will take you on a journey around the Sea to Sky as you explore our poignant connection with the land around us through each of the figures depicted. \nAll paintings will be available for purchase on site from the artist. \nSee her past work at:\nhttp://sarahafskoven.com\nInstagram: @sarahafskovenart \nRegister Here
URL:https://trickstershideout.ca/event/the-verdant-pulse-art-show-sarah-afskoven/
LOCATION:Trickster’s Hideout\, 38005 Cleveland Ave\, Squamish\, BC\, V8B 0C3\, Canada
CATEGORIES:Arts,community support,Free Event,Screening,Special Event,Specials
ATTACH;FMTTYPE=image/png:https://trickstershideout.ca/wp-content/uploads/2024/04/SARAH-AFSKOVEN-1.png
END:VEVENT
BEGIN:VEVENT
DTSTART;TZID=America/Vancouver:20240420T190000
DTEND;TZID=America/Vancouver:20240421T020000
DTSTAMP:20260420T151258
CREATED:20240406T183639Z
LAST-MODIFIED:20240406T185505Z
UID:10003733-1713639600-1713664800@trickstershideout.ca
SUMMARY:SHAELA MILLER : After the Masquerade
DESCRIPTION:Shaela Miller and band are on their Masqurade Tour and they are coming to Trickster’s Hideout to serenade your 4/20 experience! \nDate: Saturday April 20th\nTime: 7 PM DOORS 8 PM SHOW\nTickets: $15 early bird (limited)\, $20 advance\, $25 at the door \nShaela’s forthcoming album “After the Masquerade”\, is a self-indulgent trip back to a world of music she’s been patiently waiting to explore. The record was produced by Graham Lessard (Stars\, Timbre Timbre) and recorded at Studio Bell in Calgary’s National Music Centre. Released on Canadian upstart Neon Moon Records\, it’s a binary of “country and new wave that sees the two contrasting styles collide in dazzling fashion” (Plastic Mag) – a collision of genres that helped rear a young songwriter years ago. \nCHECK OUT THEIR YOUTUBE \nLISTEN ON SPOTIFY\nGET TICKETS HERE
URL:https://trickstershideout.ca/event/shaela-miller-after-the-masquerade/
LOCATION:Trickster’s Hideout\, 38005 Cleveland Ave\, Squamish\, BC\, V8B 0C3\, Canada
CATEGORIES:Dance,live band,Live Music,Special Event,Specials
ATTACH;FMTTYPE=image/jpeg:https://trickstershideout.ca/wp-content/uploads/2024/04/TH-Facebook-Event-Covers-4.jpg
END:VEVENT
END:VCALENDAR