BEGIN:VCALENDAR
VERSION:2.0
PRODID:-//Trickster&#039;s Hideout | Squamish BC - ECPv6.15.20//NONSGML v1.0//EN
CALSCALE:GREGORIAN
METHOD:PUBLISH
X-ORIGINAL-URL:https://trickstershideout.ca
X-WR-CALDESC:Events for Trickster&#039;s Hideout | Squamish BC
REFRESH-INTERVAL;VALUE=DURATION:PT1H
X-Robots-Tag:noindex
X-PUBLISHED-TTL:PT1H
BEGIN:VTIMEZONE
TZID:America/Vancouver
BEGIN:DAYLIGHT
TZOFFSETFROM:-0800
TZOFFSETTO:-0700
TZNAME:PDT
DTSTART:20300310T100000
END:DAYLIGHT
BEGIN:STANDARD
TZOFFSETFROM:-0700
TZOFFSETTO:-0800
TZNAME:PST
DTSTART:20301103T090000
END:STANDARD
BEGIN:DAYLIGHT
TZOFFSETFROM:-0800
TZOFFSETTO:-0700
TZNAME:PDT
DTSTART:20310309T100000
END:DAYLIGHT
BEGIN:STANDARD
TZOFFSETFROM:-0700
TZOFFSETTO:-0800
TZNAME:PST
DTSTART:20311102T090000
END:STANDARD
BEGIN:DAYLIGHT
TZOFFSETFROM:-0800
TZOFFSETTO:-0700
TZNAME:PDT
DTSTART:20320314T100000
END:DAYLIGHT
BEGIN:STANDARD
TZOFFSETFROM:-0700
TZOFFSETTO:-0800
TZNAME:PST
DTSTART:20321107T090000
END:STANDARD
END:VTIMEZONE
BEGIN:VEVENT
DTSTART;TZID=America/Vancouver:20310205T210000
DTEND;TZID=America/Vancouver:20310205T210000
DTSTAMP:20260422T174701
CREATED:20260302T014516Z
LAST-MODIFIED:20260302T014852Z
UID:10016672-1928091600-1928091600@trickstershideout.ca
SUMMARY:Post- Show Karaoke Night!
DESCRIPTION:Your Wednesdays just got a whole lot louder! Trickster’s Hideout brings you Wednesdays—all-out karaoke chaos. \n🎶 9 PM – Karaoke (unless no event earlier\, then it starts at 7PM!)Once the answers are in\, the real fun begins—sing your heart out with our full karaoke setup and Ryan keeping the energy alive until late. \n💸 Free Entry All Night \nCome claim the mic\, claim the laughs\, and make Wednesday nights your new tradition
URL:https://trickstershideout.ca/event/post-show-karaoke-night/2031-02-05/
LOCATION:Trickster’s Hideout\, 38005 Cleveland Ave\, Squamish\, BC\, V8B 0C3\, Canada
CATEGORIES:Karaoke
ATTACH;FMTTYPE=image/jpeg:https://trickstershideout.ca/wp-content/uploads/2026/03/Karaoke-Wednesday.jpg
END:VEVENT
BEGIN:VEVENT
DTSTART;TZID=America/Vancouver:20310212T210000
DTEND;TZID=America/Vancouver:20310212T210000
DTSTAMP:20260422T174701
CREATED:20260302T014516Z
LAST-MODIFIED:20260302T014852Z
UID:10016673-1928696400-1928696400@trickstershideout.ca
SUMMARY:Post- Show Karaoke Night!
DESCRIPTION:Your Wednesdays just got a whole lot louder! Trickster’s Hideout brings you Wednesdays—all-out karaoke chaos. \n🎶 9 PM – Karaoke (unless no event earlier\, then it starts at 7PM!)Once the answers are in\, the real fun begins—sing your heart out with our full karaoke setup and Ryan keeping the energy alive until late. \n💸 Free Entry All Night \nCome claim the mic\, claim the laughs\, and make Wednesday nights your new tradition
URL:https://trickstershideout.ca/event/post-show-karaoke-night/2031-02-12/
LOCATION:Trickster’s Hideout\, 38005 Cleveland Ave\, Squamish\, BC\, V8B 0C3\, Canada
CATEGORIES:Karaoke
ATTACH;FMTTYPE=image/jpeg:https://trickstershideout.ca/wp-content/uploads/2026/03/Karaoke-Wednesday.jpg
END:VEVENT
BEGIN:VEVENT
DTSTART;TZID=America/Vancouver:20310219T210000
DTEND;TZID=America/Vancouver:20310219T210000
DTSTAMP:20260422T174701
CREATED:20260302T014516Z
LAST-MODIFIED:20260302T014852Z
UID:10016674-1929301200-1929301200@trickstershideout.ca
SUMMARY:Post- Show Karaoke Night!
DESCRIPTION:Your Wednesdays just got a whole lot louder! Trickster’s Hideout brings you Wednesdays—all-out karaoke chaos. \n🎶 9 PM – Karaoke (unless no event earlier\, then it starts at 7PM!)Once the answers are in\, the real fun begins—sing your heart out with our full karaoke setup and Ryan keeping the energy alive until late. \n💸 Free Entry All Night \nCome claim the mic\, claim the laughs\, and make Wednesday nights your new tradition
URL:https://trickstershideout.ca/event/post-show-karaoke-night/2031-02-19/
LOCATION:Trickster’s Hideout\, 38005 Cleveland Ave\, Squamish\, BC\, V8B 0C3\, Canada
CATEGORIES:Karaoke
ATTACH;FMTTYPE=image/jpeg:https://trickstershideout.ca/wp-content/uploads/2026/03/Karaoke-Wednesday.jpg
END:VEVENT
BEGIN:VEVENT
DTSTART;TZID=America/Vancouver:20310226T210000
DTEND;TZID=America/Vancouver:20310226T210000
DTSTAMP:20260422T174701
CREATED:20260302T014516Z
LAST-MODIFIED:20260302T014852Z
UID:10016675-1929906000-1929906000@trickstershideout.ca
SUMMARY:Post- Show Karaoke Night!
DESCRIPTION:Your Wednesdays just got a whole lot louder! Trickster’s Hideout brings you Wednesdays—all-out karaoke chaos. \n🎶 9 PM – Karaoke (unless no event earlier\, then it starts at 7PM!)Once the answers are in\, the real fun begins—sing your heart out with our full karaoke setup and Ryan keeping the energy alive until late. \n💸 Free Entry All Night \nCome claim the mic\, claim the laughs\, and make Wednesday nights your new tradition
URL:https://trickstershideout.ca/event/post-show-karaoke-night/2031-02-26/
LOCATION:Trickster’s Hideout\, 38005 Cleveland Ave\, Squamish\, BC\, V8B 0C3\, Canada
CATEGORIES:Karaoke
ATTACH;FMTTYPE=image/jpeg:https://trickstershideout.ca/wp-content/uploads/2026/03/Karaoke-Wednesday.jpg
END:VEVENT
END:VCALENDAR