BEGIN:VCALENDAR
VERSION:2.0
PRODID:-//Trickster&#039;s Hideout | Squamish BC - ECPv6.15.20//NONSGML v1.0//EN
CALSCALE:GREGORIAN
METHOD:PUBLISH
X-WR-CALNAME:Trickster&#039;s Hideout | Squamish BC
X-ORIGINAL-URL:https://trickstershideout.ca
X-WR-CALDESC:Events for Trickster&#039;s Hideout | Squamish BC
REFRESH-INTERVAL;VALUE=DURATION:PT1H
X-Robots-Tag:noindex
X-PUBLISHED-TTL:PT1H
BEGIN:VTIMEZONE
TZID:America/Vancouver
BEGIN:DAYLIGHT
TZOFFSETFROM:-0800
TZOFFSETTO:-0700
TZNAME:PDT
DTSTART:20230312T100000
END:DAYLIGHT
BEGIN:STANDARD
TZOFFSETFROM:-0700
TZOFFSETTO:-0800
TZNAME:PST
DTSTART:20231105T090000
END:STANDARD
BEGIN:DAYLIGHT
TZOFFSETFROM:-0800
TZOFFSETTO:-0700
TZNAME:PDT
DTSTART:20240310T100000
END:DAYLIGHT
BEGIN:STANDARD
TZOFFSETFROM:-0700
TZOFFSETTO:-0800
TZNAME:PST
DTSTART:20241103T090000
END:STANDARD
BEGIN:DAYLIGHT
TZOFFSETFROM:-0800
TZOFFSETTO:-0700
TZNAME:PDT
DTSTART:20250309T100000
END:DAYLIGHT
BEGIN:STANDARD
TZOFFSETFROM:-0700
TZOFFSETTO:-0800
TZNAME:PST
DTSTART:20251102T090000
END:STANDARD
END:VTIMEZONE
BEGIN:VEVENT
DTSTART;TZID=America/Vancouver:20240621T190000
DTEND;TZID=America/Vancouver:20240621T230000
DTSTAMP:20260422T023748
CREATED:20240604T204726Z
LAST-MODIFIED:20240604T204727Z
UID:10008044-1718996400-1719010800@trickstershideout.ca
SUMMARY:GUILTY PLEASURE - Live Rock Band
DESCRIPTION:CLASSIC ROCK FRIDAY – Let your hair go wild and the beat be untamed.  \nGuilty Pleasure is a high-energy\, 6-piece Vancouver band that puts its spin on classic and modern rock tunes from the 60s to now. \nThis dynamic group’s set list includes the Rolling Stones\, Tom Petty\, Guns N’ Roses\, Bonnie Raitt\, Radiohead\, Chris Stapleton\, Patti Smith\, Black Crowes\, Larkin Poe\, Chris Isaak\, Melissa Etheridge and many more. Regulars on the Vancouver club circuit should not be missed! \nCheck them out! \nGET TICKETS HERE\n$10 early bird\n$15 General Admission\n$20 Door
URL:https://trickstershideout.ca/event/guilty-pleasure-live-rock-band/
LOCATION:Trickster’s Hideout\, 38005 Cleveland Ave\, Squamish\, BC\, V8B 0C3\, Canada
CATEGORIES:Dance,live band,Live Music,locals specials,Special Event,Specials
ATTACH;FMTTYPE=image/png:https://trickstershideout.ca/wp-content/uploads/2024/06/GuiltyPleasure.cover_.png
END:VEVENT
END:VCALENDAR