BEGIN:VCALENDAR
VERSION:2.0
PRODID:-//Trickster&#039;s Hideout | Squamish BC - ECPv6.15.20//NONSGML v1.0//EN
CALSCALE:GREGORIAN
METHOD:PUBLISH
X-WR-CALNAME:Trickster&#039;s Hideout | Squamish BC
X-ORIGINAL-URL:https://trickstershideout.ca
X-WR-CALDESC:Events for Trickster&#039;s Hideout | Squamish BC
REFRESH-INTERVAL;VALUE=DURATION:PT1H
X-Robots-Tag:noindex
X-PUBLISHED-TTL:PT1H
BEGIN:VTIMEZONE
TZID:America/Vancouver
BEGIN:DAYLIGHT
TZOFFSETFROM:-0800
TZOFFSETTO:-0700
TZNAME:PDT
DTSTART:20230312T100000
END:DAYLIGHT
BEGIN:STANDARD
TZOFFSETFROM:-0700
TZOFFSETTO:-0800
TZNAME:PST
DTSTART:20231105T090000
END:STANDARD
BEGIN:DAYLIGHT
TZOFFSETFROM:-0800
TZOFFSETTO:-0700
TZNAME:PDT
DTSTART:20240310T100000
END:DAYLIGHT
BEGIN:STANDARD
TZOFFSETFROM:-0700
TZOFFSETTO:-0800
TZNAME:PST
DTSTART:20241103T090000
END:STANDARD
BEGIN:DAYLIGHT
TZOFFSETFROM:-0800
TZOFFSETTO:-0700
TZNAME:PDT
DTSTART:20250309T100000
END:DAYLIGHT
BEGIN:STANDARD
TZOFFSETFROM:-0700
TZOFFSETTO:-0800
TZNAME:PST
DTSTART:20251102T090000
END:STANDARD
END:VTIMEZONE
BEGIN:VEVENT
DTSTART;TZID=America/Vancouver:20240614T190000
DTEND;TZID=America/Vancouver:20240614T210000
DTSTAMP:20260422T020630
CREATED:20240604T182334Z
LAST-MODIFIED:20240604T182334Z
UID:10008040-1718391600-1718398800@trickstershideout.ca
SUMMARY:Campfire Comedy with Mark Menei
DESCRIPTION:SQUAMISH’S BEST COMEDY AT TRICKSTER’S HIDEOUT! \nWelcome to the stage: a taste of Ontario\, Mark Menei’s Summer Comedy Tour! Test out the laughs HERE! \nEarly Bird $15 | Advance $20 | Door $25 \n(early bird sales end Jun 07 at 11:59PM) \nDoors Open @ 7PM \nShow Starts @ 7:30PM \nHEADLINER BIO \nMARK MENEI: Mark is a high energy comedian who integrates strong crowd work with polished material to bring you one of the freshest acts in Canadian comedy. \nMark has been seen on CTV and CBC\, was named ‘Best Comedian’ in The Walleye Arts and Culture magazine\, and has opened for the likes of Gerry Dee and Darrin Rose among many other prolific acts. Mark has performed at the Thunder Bay Comedy Festival and recently performed a 7-show run at the Hamilton Fringe Festival where he garnered the review “as entertaining a performer as you will see.” Mark is currently headlining a Canada wide tour which will see him in venues from theatres to comedy clubs across the country. \nMark is also the owner of Campfire Comedy and continues to grow the brand by bringing top notch entertainment to towns throughout Northwestern Ontario and Manitoba. \nFEATURING \nKelly Dyer\, Emily Qureshi\, Jeremy Meakins\, Kevin Appleby & Breanne Menei \nCheck out more of Mark’s standup clips and sketches by clicking this link and following him on social media: Follow Link \nSponsored by: \nOn The Links \nMatt Carr Repair \n19+ Event \nGET TICKETS HERE
URL:https://trickstershideout.ca/event/campfire-comedy-with-mark-menei/
LOCATION:Trickster’s Hideout\, 38005 Cleveland Ave\, Squamish\, BC\, V8B 0C3\, Canada
CATEGORIES:Arts,Comedy,Special Event,Specials
ATTACH;FMTTYPE=image/jpeg:https://trickstershideout.ca/wp-content/uploads/2024/06/Website-poster-revised.jpg
END:VEVENT
END:VCALENDAR