BEGIN:VCALENDAR
VERSION:2.0
PRODID:-//Trickster&#039;s Hideout | Squamish BC - ECPv6.15.20//NONSGML v1.0//EN
CALSCALE:GREGORIAN
METHOD:PUBLISH
X-WR-CALNAME:Trickster&#039;s Hideout | Squamish BC
X-ORIGINAL-URL:https://trickstershideout.ca
X-WR-CALDESC:Events for Trickster&#039;s Hideout | Squamish BC
REFRESH-INTERVAL;VALUE=DURATION:PT1H
X-Robots-Tag:noindex
X-PUBLISHED-TTL:PT1H
BEGIN:VTIMEZONE
TZID:America/Vancouver
BEGIN:DAYLIGHT
TZOFFSETFROM:-0800
TZOFFSETTO:-0700
TZNAME:PDT
DTSTART:20230312T100000
END:DAYLIGHT
BEGIN:STANDARD
TZOFFSETFROM:-0700
TZOFFSETTO:-0800
TZNAME:PST
DTSTART:20231105T090000
END:STANDARD
BEGIN:DAYLIGHT
TZOFFSETFROM:-0800
TZOFFSETTO:-0700
TZNAME:PDT
DTSTART:20240310T100000
END:DAYLIGHT
BEGIN:STANDARD
TZOFFSETFROM:-0700
TZOFFSETTO:-0800
TZNAME:PST
DTSTART:20241103T090000
END:STANDARD
BEGIN:DAYLIGHT
TZOFFSETFROM:-0800
TZOFFSETTO:-0700
TZNAME:PDT
DTSTART:20250309T100000
END:DAYLIGHT
BEGIN:STANDARD
TZOFFSETFROM:-0700
TZOFFSETTO:-0800
TZNAME:PST
DTSTART:20251102T090000
END:STANDARD
END:VTIMEZONE
BEGIN:VEVENT
DTSTART;TZID=America/Vancouver:20240616T190000
DTEND;TZID=America/Vancouver:20240616T210000
DTSTAMP:20260422T073513
CREATED:20240604T195853Z
LAST-MODIFIED:20240612T234520Z
UID:10008042-1718564400-1718571600@trickstershideout.ca
SUMMARY:Sunday Sounds - Jazz Duo
DESCRIPTION:Wind down from the weekend and recover with some Smooth Jazz this Sunday! \nFREE COMMUNITY EVENT \nSquamish on Sundays are meant to relax and unwind from the jam packed weekend. Pair those 7pm smooth sounds with Bourbon or Whiskey and enjoy the jazz lounge vibes.
URL:https://trickstershideout.ca/event/jazz-duo-smooth-sound-sunday/
LOCATION:Trickster’s Hideout\, 38005 Cleveland Ave\, Squamish\, BC\, V8B 0C3\, Canada
CATEGORIES:live band,Live Music,locals specials,Special Event,Specials
ATTACH;FMTTYPE=image/png:https://trickstershideout.ca/wp-content/uploads/2024/06/Sunday-Sounds.png
END:VEVENT
END:VCALENDAR