BEGIN:VCALENDAR
VERSION:2.0
PRODID:-//Trickster&#039;s Hideout | Squamish BC - ECPv6.15.20//NONSGML v1.0//EN
CALSCALE:GREGORIAN
METHOD:PUBLISH
X-ORIGINAL-URL:https://trickstershideout.ca
X-WR-CALDESC:Events for Trickster&#039;s Hideout | Squamish BC
REFRESH-INTERVAL;VALUE=DURATION:PT1H
X-Robots-Tag:noindex
X-PUBLISHED-TTL:PT1H
BEGIN:VTIMEZONE
TZID:America/Vancouver
BEGIN:DAYLIGHT
TZOFFSETFROM:-0800
TZOFFSETTO:-0700
TZNAME:PDT
DTSTART:20230312T100000
END:DAYLIGHT
BEGIN:STANDARD
TZOFFSETFROM:-0700
TZOFFSETTO:-0800
TZNAME:PST
DTSTART:20231105T090000
END:STANDARD
BEGIN:DAYLIGHT
TZOFFSETFROM:-0800
TZOFFSETTO:-0700
TZNAME:PDT
DTSTART:20240310T100000
END:DAYLIGHT
BEGIN:STANDARD
TZOFFSETFROM:-0700
TZOFFSETTO:-0800
TZNAME:PST
DTSTART:20241103T090000
END:STANDARD
BEGIN:DAYLIGHT
TZOFFSETFROM:-0800
TZOFFSETTO:-0700
TZNAME:PDT
DTSTART:20250309T100000
END:DAYLIGHT
BEGIN:STANDARD
TZOFFSETFROM:-0700
TZOFFSETTO:-0800
TZNAME:PST
DTSTART:20251102T090000
END:STANDARD
END:VTIMEZONE
BEGIN:VEVENT
DTSTART;TZID=America/Vancouver:20240821T190000
DTEND;TZID=America/Vancouver:20240821T233000
DTSTAMP:20260420T074301
CREATED:20240517T215120Z
LAST-MODIFIED:20240517T215446Z
UID:10007751-1724266800-1724283000@trickstershideout.ca
SUMMARY:SORCA CINCO #8
DESCRIPTION:STAY TUNED FOR EVENT DETAILS. \nCLOSED EVENT FOR TICKET HOLDERS ONLY FROM 7PM. \nSORCA EVENT TICKETS \nCINCO # 8 PARTNERS\nNOMADIC MECHANIC\nTACOFINO\nBLUEBIRD
URL:https://trickstershideout.ca/event/sorca-cinco-8/
LOCATION:Trickster’s Hideout\, 38005 Cleveland Ave\, Squamish\, BC\, V8B 0C3\, Canada
CATEGORIES:community support,Dance,DJ,Live Music,locals specials,Special Event,Specials
END:VEVENT
BEGIN:VEVENT
DTSTART;TZID=America/Vancouver:20240807T190000
DTEND;TZID=America/Vancouver:20240807T233000
DTSTAMP:20260420T074301
CREATED:20240517T214757Z
LAST-MODIFIED:20240730T215457Z
UID:10007750-1723057200-1723073400@trickstershideout.ca
SUMMARY:SORCA SOCIAL #7
DESCRIPTION:STAY TUNED FOR EVENT DETAILS. \nCLOSED EVENT FOR TICKET HOLDERS ONLY FROM 7PM. \nCLICK HERE FOR TICKETS! \nSORCA EVENT TICKETS \nSOCIAL #7 PARTNERS\nNOMADIC MECHANIC\nTACOFINO
URL:https://trickstershideout.ca/event/sorca-social-7/
LOCATION:Trickster’s Hideout\, 38005 Cleveland Ave\, Squamish\, BC\, V8B 0C3\, Canada
CATEGORIES:Business,community support,DJ,Live Music,locals specials,Special Event,Specials
ATTACH;FMTTYPE=image/jpeg:https://trickstershideout.ca/wp-content/uploads/2024/05/SORCA-SOCIAL-7-1920-x-1005-scaled.jpg
END:VEVENT
END:VCALENDAR